BEGIN:VCALENDAR
VERSION:2.0
PRODID:-//Ingecal - Consultoria y Formación de Sistemas de Gestión. - ECPv5.16.1.1//NONSGML v1.0//EN
CALSCALE:GREGORIAN
METHOD:PUBLISH
X-WR-CALNAME:Ingecal - Consultoria y Formación de Sistemas de Gestión.
X-ORIGINAL-URL:https://ingecal.org
X-WR-CALDESC:Eventos para Ingecal - Consultoria y Formación de Sistemas de Gestión.
REFRESH-INTERVAL;VALUE=DURATION:PT1H
X-Robots-Tag:noindex
X-PUBLISHED-TTL:PT1H
BEGIN:VTIMEZONE
TZID:Europe/Madrid
BEGIN:DAYLIGHT
TZOFFSETFROM:+0100
TZOFFSETTO:+0200
TZNAME:CEST
DTSTART:20260329T010000
END:DAYLIGHT
BEGIN:STANDARD
TZOFFSETFROM:+0200
TZOFFSETTO:+0100
TZNAME:CET
DTSTART:20261025T010000
END:STANDARD
END:VTIMEZONE
BEGIN:VEVENT
DTSTART;TZID=Europe/Madrid:20260505T090000
DTEND;TZID=Europe/Madrid:20260505T130000
DTSTAMP:20260426T020027
CREATED:20220701T112952Z
LAST-MODIFIED:20260209T105221Z
UID:60020-1777971600-1777986000@ingecal.org
SUMMARY:ISO 13485 - Gestión de la calidad de los Productos Sanitarios
DESCRIPTION:
URL:https://ingecal.org/evfor/en-iso-134852016-gestion-de-la-calidad-de-los-productos-sanitarios/
CATEGORIES:Cursos - Aula Virtual
END:VEVENT
END:VCALENDAR