BEGIN:VCALENDAR
VERSION:2.0
PRODID:-//Ingecal - Consultoria y Formación de Sistemas de Gestión. - ECPv5.16.1.1//NONSGML v1.0//EN
CALSCALE:GREGORIAN
METHOD:PUBLISH
X-WR-CALNAME:Ingecal - Consultoria y Formación de Sistemas de Gestión.
X-ORIGINAL-URL:https://ingecal.org
X-WR-CALDESC:Eventos para Ingecal - Consultoria y Formación de Sistemas de Gestión.
REFRESH-INTERVAL;VALUE=DURATION:PT1H
X-Robots-Tag:noindex
X-PUBLISHED-TTL:PT1H
BEGIN:VTIMEZONE
TZID:Europe/Madrid
BEGIN:DAYLIGHT
TZOFFSETFROM:+0100
TZOFFSETTO:+0200
TZNAME:CEST
DTSTART:20260329T010000
END:DAYLIGHT
BEGIN:STANDARD
TZOFFSETFROM:+0200
TZOFFSETTO:+0100
TZNAME:CET
DTSTART:20261025T010000
END:STANDARD
END:VTIMEZONE
BEGIN:VEVENT
DTSTART;TZID=Europe/Madrid:20260505T090000
DTEND;TZID=Europe/Madrid:20260505T130000
DTSTAMP:20260426T002835
CREATED:20220701T112952Z
LAST-MODIFIED:20260209T105221Z
UID:60020-1777971600-1777986000@ingecal.org
SUMMARY:ISO 13485 - Gestión de la calidad de los Productos Sanitarios
DESCRIPTION:
URL:https://ingecal.org/evfor/en-iso-134852016-gestion-de-la-calidad-de-los-productos-sanitarios/
CATEGORIES:Cursos - Aula Virtual
END:VEVENT
BEGIN:VEVENT
DTSTART;TZID=Europe/Madrid:20260506T090000
DTEND;TZID=Europe/Madrid:20260506T093000
DTSTAMP:20260426T002835
CREATED:20260423T083110Z
LAST-MODIFIED:20260423T083225Z
UID:66009-1778058000-1778059800@ingecal.org
SUMMARY:Free Webinar - ISO 14001:2026
DESCRIPTION:
URL:https://ingecal.org/evfor/free-webinar-iso-140012026-principales-cambios/
END:VEVENT
BEGIN:VEVENT
DTSTART;TZID=Europe/Madrid:20260513T090000
DTEND;TZID=Europe/Madrid:20260513T140000
DTSTAMP:20260426T002835
CREATED:20260423T084250Z
LAST-MODIFIED:20260423T084410Z
UID:66021-1778662800-1778680800@ingecal.org
SUMMARY:Live Masterclass - ISO 14001:2026
DESCRIPTION:
URL:https://ingecal.org/evfor/live-masterclass-iso-14001-2026/
END:VEVENT
BEGIN:VEVENT
DTSTART;TZID=Europe/Madrid:20260519T090000
DTEND;TZID=Europe/Madrid:20260519T093000
DTSTAMP:20260426T002835
CREATED:20260423T083413Z
LAST-MODIFIED:20260423T083413Z
UID:66011-1779181200-1779183000@ingecal.org
SUMMARY:Free Webinar - ISO 9001:2026
DESCRIPTION:
URL:https://ingecal.org/evfor/free-webinar-iso-90012026-principales-cambios/
END:VEVENT
BEGIN:VEVENT
DTSTART;TZID=Europe/Madrid:20260522T090000
DTEND;TZID=Europe/Madrid:20260522T093000
DTSTAMP:20260426T002835
CREATED:20260423T083815Z
LAST-MODIFIED:20260423T084006Z
UID:66019-1779440400-1779442200@ingecal.org
SUMMARY:Free Webinar - Cómo implantar la sostenibilidad en PYMES
DESCRIPTION:
URL:https://ingecal.org/evfor/free-webinar-como-implantar-la-sostenibilidad-en-las-pymes/
END:VEVENT
BEGIN:VEVENT
DTSTART;TZID=Europe/Madrid:20260529T090000
DTEND;TZID=Europe/Madrid:20260529T140000
DTSTAMP:20260426T002835
CREATED:20260423T084717Z
LAST-MODIFIED:20260423T084905Z
UID:66030-1780045200-1780063200@ingecal.org
SUMMARY:Live Masterclass - ISO 9001:2026
DESCRIPTION:
URL:https://ingecal.org/evfor/live-masterclass-iso-90012026/
END:VEVENT
END:VCALENDAR